BEGIN:VCALENDAR
VERSION:2.0
PRODID:-//Boating BC Association//Silkstart Technology Inc.//
BEGIN:VTIMEZONE
TZID:America/Vancouver
BEGIN:DAYLIGHT
DTSTART;VALUE=DATE-TIME:20260308T020000
TZNAME:PDT
TZOFFSETFROM:-0800
TZOFFSETTO:-0700
END:DAYLIGHT
BEGIN:STANDARD
DTSTART;VALUE=DATE-TIME:20261101T020000
TZNAME:PST
TZOFFSETFROM:-0700
TZOFFSETTO:-0800
END:STANDARD
END:VTIMEZONE
BEGIN:VEVENT
SUMMARY:Dean's Marine - Swap N Shop
DTSTART;TZID=America/Vancouver;VALUE=DATE-TIME:20180526T090000
DTEND;TZID=America/Vancouver;VALUE=DATE-TIME:20180526T140000
DTSTAMP;VALUE=DATE-TIME:20180309T225744
UID:5aa311686d1cc2044db4d4ca
DESCRIPTION: Come down and see what kind of treasures you can find. 
 Donations gratefully accepted for the Marine Mechanical Technical Program.
  
LOCATION:5147 Polkey Rd\, Duncan\, BC V9L 6W3\, Canada
PRIORITY:5
URL:https://www.boatingbc.ca:443/events/deans-marine-swap-shop
END:VEVENT
END:VCALENDAR
